BEGIN:VCALENDAR
VERSION:2.0
PRODID:-//Centre de ski Le Relais - ECPv6.6.3//NONSGML v1.0//EN
CALSCALE:GREGORIAN
METHOD:PUBLISH
X-WR-CALNAME:Centre de ski Le Relais
X-ORIGINAL-URL:https://www.skirelais.com
X-WR-CALDESC:évènements pour Centre de ski Le Relais
REFRESH-INTERVAL;VALUE=DURATION:PT1H
X-Robots-Tag:noindex
X-PUBLISHED-TTL:PT1H
BEGIN:VTIMEZONE
TZID:America/Toronto
BEGIN:DAYLIGHT
TZOFFSETFROM:-0500
TZOFFSETTO:-0400
TZNAME:EDT
DTSTART:20260308T070000
END:DAYLIGHT
BEGIN:STANDARD
TZOFFSETFROM:-0400
TZOFFSETTO:-0500
TZNAME:EST
DTSTART:20261101T060000
END:STANDARD
END:VTIMEZONE
BEGIN:VEVENT
DTSTART;TZID=America/Toronto:20260219T160000
DTEND;TZID=America/Toronto:20260219T210000
DTSTAMP:20260420T060254
CREATED:20251229T200152Z
LAST-MODIFIED:20251229T200152Z
UID:13770-1771516800-1771534800@www.skirelais.com
SUMMARY:Jeudi soir à 29$
DESCRIPTION:Dès le 8 janvier\, skiez le jeudi soir de 16h à 21h pour seulement 29$. \nPour achetez vos billets\, c’est ici!
URL:https://www.skirelais.com/activite/jeudi-soir-a-29-7/
LOCATION:Centre de ski Le Relais\, 1084\, Boulevard du Lac\, Lac-Beauport\, Quebec\, G3B 0X5\, Canada
ATTACH;FMTTYPE=image/jpeg:https://www.skirelais.com/wp-content/uploads/2023/01/Unknown-3.jpeg
END:VEVENT
BEGIN:VEVENT
DTSTART;TZID=America/Toronto:20260219T190000
DTEND;TZID=America/Toronto:20260219T220000
DTSTAMP:20260420T060254
CREATED:20251229T205957Z
LAST-MODIFIED:20251229T205957Z
UID:13802-1771527600-1771538400@www.skirelais.com
SUMMARY:Chansonnier: Gill Poitras
DESCRIPTION: Roulant sa bosse depuis plus de 25 ans\, Gill Poitras  a performé au sein de plusieurs groupes musicaux au Québec. \nCe qui lui a permis de chanter plusieurs styles de chansons qu’il nous transmet maintenant en formule SOLO avec sa guitare : Pop-Rock\, 80’s\, Country et Franco… Tout y est selon l’ambiance du moment !
URL:https://www.skirelais.com/activite/chansonnier-gill-poitras-5/
LOCATION:Centre de ski Le Relais\, 1084\, Boulevard du Lac\, Lac-Beauport\, Quebec\, G3B 0X5\, Canada
ATTACH;FMTTYPE=image/jpeg:https://www.skirelais.com/wp-content/uploads/2024/12/Gill-Photo-juillet-2024.jpg
END:VEVENT
END:VCALENDAR